

BEGIN:VCALENDAR
VERSION:2.0
PRODID:-//The James A. Barnes Club - ECPv6.15.17.1//NONSGML v1.0//EN
CALSCALE:GREGORIAN
METHOD:PUBLISH
X-WR-CALNAME:The James A. Barnes Club
X-ORIGINAL-URL:https://sites.temple.edu/barnesclub
X-WR-CALDESC:Events for The James A. Barnes Club
REFRESH-INTERVAL;VALUE=DURATION:PT1H
X-Robots-Tag:noindex
X-PUBLISHED-TTL:PT1H
BEGIN:VTIMEZONE
TZID:America/New_York
BEGIN:DAYLIGHT
TZOFFSETFROM:-0500
TZOFFSETTO:-0400
TZNAME:EDT
DTSTART:20190310T070000
END:DAYLIGHT
BEGIN:STANDARD
TZOFFSETFROM:-0400
TZOFFSETTO:-0500
TZNAME:EST
DTSTART:20191103T060000
END:STANDARD
BEGIN:DAYLIGHT
TZOFFSETFROM:-0500
TZOFFSETTO:-0400
TZNAME:EDT
DTSTART:20200308T070000
END:DAYLIGHT
BEGIN:STANDARD
TZOFFSETFROM:-0400
TZOFFSETTO:-0500
TZNAME:EST
DTSTART:20201101T060000
END:STANDARD
BEGIN:DAYLIGHT
TZOFFSETFROM:-0500
TZOFFSETTO:-0400
TZNAME:EDT
DTSTART:20210314T070000
END:DAYLIGHT
BEGIN:STANDARD
TZOFFSETFROM:-0400
TZOFFSETTO:-0500
TZNAME:EST
DTSTART:20211107T060000
END:STANDARD
END:VTIMEZONE
BEGIN:VEVENT
DTSTART;TZID=America/New_York:20200917T160000
DTEND;TZID=America/New_York:20200917T173000
DTSTAMP:20260421T181504
CREATED:20200911T152243Z
LAST-MODIFIED:20200911T152243Z
UID:217-1600358400-1600363800@sites.temple.edu
SUMMARY:September History Graduate Student Town Hall
DESCRIPTION:This year the Barnes Club will be holding monthly town hall meetings over Zoom. These town halls will serve as a forum for students to bring any questions\, concerns\, or suggestions they may have about grad school to the attention of department leadership.\n\nThe September town hall will be held on Thursday\, September 17 at 4:00 PM. The meeting will focus on transitioning into the new semester. Any questions\, comments\, or concerns regarding course loads\, teaching assignments\, getting familiar with online instruction\, and any other relevant topics are more than welcome. Dr. Eileen Ryan and Dr. Bryant Simon will be there to address all questions and comments. The Zoom link for the meeting can be found below.\n\nZoom Link: https://temple.zoom.us/j/94518601437
URL:https://sites.temple.edu/barnesclub/event/september-history-graduate-student-town-hall/
END:VEVENT
BEGIN:VEVENT
DTSTART;TZID=America/New_York:20200930T100000
DTEND;TZID=America/New_York:20200930T110000
DTSTAMP:20260421T181504
CREATED:20200922T175013Z
LAST-MODIFIED:20200922T175013Z
UID:220-1601460000-1601463600@sites.temple.edu
SUMMARY:CV Workshop with Dr. Jessica Roney
DESCRIPTION:The Barnes Club will be hosting a CV workshop with Dr. Jessica Choppin Roney on Wednesday\, September 30 at 10:00 AM over Zoom. The Zoom link is provided below. During the workshop\, Dr. Roney will provide tips on how to construct a good CV and prepare materials for job applications. In addition to fielding questions\, Dr. Roney will also take time to give constructive feedback on draft CVs or resumes that students send in advance.\n\nDr. Roney has materials that she would like to circulate to attendees\, so the Barnes Club is asking anyone who would like to attend to please register for the workshop by the end of the day Monday\, September 28 here:  2020 CV Workshop Registration\n\nIf you would like to send in a CV for feedback\, please email a pdf or word file of the CV to the Barnes Club email at jabgrad@temple.edu.\n\nZoom Link: https://temple.zoom.us/j/91640410099
URL:https://sites.temple.edu/barnesclub/event/cv-workshop-with-dr-jessica-roney/
END:VEVENT
END:VCALENDAR