

BEGIN:VCALENDAR
VERSION:2.0
PRODID:-//The James A. Barnes Club - ECPv6.15.17.1//NONSGML v1.0//EN
CALSCALE:GREGORIAN
METHOD:PUBLISH
X-WR-CALNAME:The James A. Barnes Club
X-ORIGINAL-URL:https://sites.temple.edu/barnesclub
X-WR-CALDESC:Events for The James A. Barnes Club
REFRESH-INTERVAL;VALUE=DURATION:PT1H
X-Robots-Tag:noindex
X-PUBLISHED-TTL:PT1H
BEGIN:VTIMEZONE
TZID:America/New_York
BEGIN:DAYLIGHT
TZOFFSETFROM:-0500
TZOFFSETTO:-0400
TZNAME:EDT
DTSTART:20250309T070000
END:DAYLIGHT
BEGIN:STANDARD
TZOFFSETFROM:-0400
TZOFFSETTO:-0500
TZNAME:EST
DTSTART:20251102T060000
END:STANDARD
BEGIN:DAYLIGHT
TZOFFSETFROM:-0500
TZOFFSETTO:-0400
TZNAME:EDT
DTSTART:20260308T070000
END:DAYLIGHT
BEGIN:STANDARD
TZOFFSETFROM:-0400
TZOFFSETTO:-0500
TZNAME:EST
DTSTART:20261101T060000
END:STANDARD
BEGIN:DAYLIGHT
TZOFFSETFROM:-0500
TZOFFSETTO:-0400
TZNAME:EDT
DTSTART:20270314T070000
END:DAYLIGHT
BEGIN:STANDARD
TZOFFSETFROM:-0400
TZOFFSETTO:-0500
TZNAME:EST
DTSTART:20271107T060000
END:STANDARD
END:VTIMEZONE
BEGIN:VEVENT
DTSTART;TZID=America/New_York:20260417T120000
DTEND;TZID=America/New_York:20260424T120000
DTSTAMP:20260425T174832
CREATED:20260421T024833Z
LAST-MODIFIED:20260421T024833Z
UID:570-1776427200-1777032000@sites.temple.edu
SUMMARY:Elections Open: 2026-2027 Barnes Officers
DESCRIPTION:Grad students\, submit your votes! Your voice matters. Help select the next leaders for our graduate student life!
URL:https://sites.temple.edu/barnesclub/event/elections-open-2026-2027-barnes-officers/
END:VEVENT
END:VCALENDAR