

BEGIN:VCALENDAR
VERSION:2.0
PRODID:-//The James A. Barnes Club - ECPv6.15.17.1//NONSGML v1.0//EN
CALSCALE:GREGORIAN
METHOD:PUBLISH
X-WR-CALNAME:The James A. Barnes Club
X-ORIGINAL-URL:https://sites.temple.edu/barnesclub
X-WR-CALDESC:Events for The James A. Barnes Club
REFRESH-INTERVAL;VALUE=DURATION:PT1H
X-Robots-Tag:noindex
X-PUBLISHED-TTL:PT1H
BEGIN:VTIMEZONE
TZID:America/New_York
BEGIN:DAYLIGHT
TZOFFSETFROM:-0500
TZOFFSETTO:-0400
TZNAME:EDT
DTSTART:20250309T070000
END:DAYLIGHT
BEGIN:STANDARD
TZOFFSETFROM:-0400
TZOFFSETTO:-0500
TZNAME:EST
DTSTART:20251102T060000
END:STANDARD
BEGIN:DAYLIGHT
TZOFFSETFROM:-0500
TZOFFSETTO:-0400
TZNAME:EDT
DTSTART:20260308T070000
END:DAYLIGHT
BEGIN:STANDARD
TZOFFSETFROM:-0400
TZOFFSETTO:-0500
TZNAME:EST
DTSTART:20261101T060000
END:STANDARD
BEGIN:DAYLIGHT
TZOFFSETFROM:-0500
TZOFFSETTO:-0400
TZNAME:EDT
DTSTART:20270314T070000
END:DAYLIGHT
BEGIN:STANDARD
TZOFFSETFROM:-0400
TZOFFSETTO:-0500
TZNAME:EST
DTSTART:20271107T060000
END:STANDARD
END:VTIMEZONE
BEGIN:VEVENT
DTSTART;TZID=America/New_York:20260408T080000
DTEND;TZID=America/New_York:20260415T235900
DTSTAMP:20260425T082537
CREATED:20260415T173804Z
LAST-MODIFIED:20260415T173804Z
UID:533-1775635200-1776297540@sites.temple.edu
SUMMARY:2026-2027 - Officer Nominations Open Now
DESCRIPTION:Please review the roles for the Barnes Club’s board and consider nominating yourself. Joining the board is not just great for building your CV but will also allow you to actively shape grad student life in the department.\n\nYou can apply or nominate a friend using this form:\nhttps://forms.office.com/r/xikKtGhGZd\n**(If you are nominated by another person this is not binding)\n\nNomination Voting Period: Weds\, Apr 8th – Weds\, Apr15th \nElection Voting Period: Thurs\, Apr 16th – Thurs\, Apr 23rd (at Noon)\nOfficer Winners Announcement: Shortly after\n\nOfficer Roles:\n\n\nPresident: Coordinating activities of the Board and attending departmental meetings on behalf of graduate students.\n\n\nVice President: Coordination of professional development seminars as well as coordinating social activities and planning get-togethers\, and supporting the president in their duties.\n\n\nTreasurer: Finance management\, development of fundraising initiatives\, overseeing fundraising events\, and supporting the financial organization of the conference.\n\n\nDigital Chair: Managing social media accounts\, Barnes Conference promotion\, maintaining the Barnes Conference website\, and promoting scholarship through digital outreach.\n\n\nBarnes Conference Chair: Coordinating all aspects of the conference\, including\, but not limited to developing and organizing the CFP\, guest speakers\, recruitment\, and fundraising.\n\n\nBarnes Conference Committee: (multiple positions) Responsibilities include planning and executing the conference in coordination with the Conference Chair.\n\n\nMA Rep: Responsibilities include acting as liaison from MA students to the board and representing their interests in the department.\n\n\nInternational Exchange Liaison. This student in residence at Temple will serve as the representative for students visiting Philadelphia on fellowships or in exchange programs\, as well as planning and hosting the International Exchange Workshop on Friday just before the Conference officially begins.
URL:https://sites.temple.edu/barnesclub/event/2026-2027-officer-nominations-open-now/
END:VEVENT
END:VCALENDAR