

BEGIN:VCALENDAR
VERSION:2.0
PRODID:-//BAP Alpha Phi - ECPv6.15.17.1//NONSGML v1.0//EN
CALSCALE:GREGORIAN
METHOD:PUBLISH
X-ORIGINAL-URL:https://sites.temple.edu/bapalphaphi
X-WR-CALDESC:Events for BAP Alpha Phi
REFRESH-INTERVAL;VALUE=DURATION:PT1H
X-Robots-Tag:noindex
X-PUBLISHED-TTL:PT1H
BEGIN:VTIMEZONE
TZID:America/New_York
BEGIN:DAYLIGHT
TZOFFSETFROM:-0500
TZOFFSETTO:-0400
TZNAME:EDT
DTSTART:20200308T070000
END:DAYLIGHT
BEGIN:STANDARD
TZOFFSETFROM:-0400
TZOFFSETTO:-0500
TZNAME:EST
DTSTART:20201101T060000
END:STANDARD
BEGIN:DAYLIGHT
TZOFFSETFROM:-0500
TZOFFSETTO:-0400
TZNAME:EDT
DTSTART:20210314T070000
END:DAYLIGHT
BEGIN:STANDARD
TZOFFSETFROM:-0400
TZOFFSETTO:-0500
TZNAME:EST
DTSTART:20211107T060000
END:STANDARD
BEGIN:DAYLIGHT
TZOFFSETFROM:-0500
TZOFFSETTO:-0400
TZNAME:EDT
DTSTART:20220313T070000
END:DAYLIGHT
BEGIN:STANDARD
TZOFFSETFROM:-0400
TZOFFSETTO:-0500
TZNAME:EST
DTSTART:20221106T060000
END:STANDARD
END:VTIMEZONE
BEGIN:VEVENT
DTSTART;TZID=America/New_York:20210903T120000
DTEND;TZID=America/New_York:20210903T125000
DTSTAMP:20260423T102817
CREATED:20210812T143254Z
LAST-MODIFIED:20210830T232800Z
UID:284-1630670400-1630673400@sites.temple.edu
SUMMARY:Virtual Accounting Firm Meet-Up\, Hosted By: ASCEND
DESCRIPTION:CREDIT: No Professional Hours \nDESCRIPTION: See the Accounting Canvas page for a list of accounting firm presenting! \nDeloitte\, Friedman\, Protiviti \nZoom Link: See Accounting Canvas page for registration information
URL:https://sites.temple.edu/bapalphaphi/event/virtual-accounting-firm-meet-up-hosted-by-ascend/
END:VEVENT
END:VCALENDAR